BEGIN:VCALENDAR
VERSION:2.0
PRODID:SchoolNow
CALSCALE:GREGORIAN
BEGIN:VEVENT
UID:313b543c-ac02-11ee-bf17-0a58a9feac02
DTSTAMP:20240301T192150Z
SUMMARY:Baseball Home Game vs. College of the Siskiyous (Postponed to a lat
 er date due to weather)
LOCATION:Feather River College Baseball Field
URL;VALUE=URI:https://www.frc.edu/about/calendar/5109594/baseball-home-game
 -vs-college-of-the-siskiyous
DTSTART:20240301T220000Z
DTEND:20240302T010000Z
END:VEVENT
END:VCALENDAR
