BEGIN:VCALENDAR
VERSION:2.0
PRODID:SchoolNow
CALSCALE:GREGORIAN
BEGIN:VEVENT
UID:f5c48b94-ac01-11ee-aa61-0a58a9feac02
DTSTAMP:20240105T193811Z
SUMMARY:Baseball Home Double Header vs. Lassen College
LOCATION:Feather River College Baseball Field
URL;VALUE=URI:https://www.frc.edu/about/calendar/5109593/baseball-home-doub
 le-header-vs-lassen-college
DTSTART:20240224T200000Z
DTEND:20240225T020000Z
END:VEVENT
END:VCALENDAR
