BEGIN:VCALENDAR
VERSION:2.0
PRODID:SchoolNow
CALSCALE:GREGORIAN
BEGIN:VEVENT
UID:adb16700-ac01-11ee-9563-0a58a9feac02
DTSTAMP:20240216T201051Z
SUMMARY:Men's Basketball Home Game vs. College of the Siskiyous
LOCATION:Feather River College Gymnasium
URL;VALUE=URI:https://www.frc.edu/about/calendar/5109592/mens-basketball-ho
 me-game-vs-college-of-the-siskiyous
DTSTART:20240222T020000Z
DTEND:20240222T040000Z
END:VEVENT
END:VCALENDAR
