BEGIN:VCALENDAR
VERSION:2.0
PRODID:SchoolNow
CALSCALE:GREGORIAN
BEGIN:VEVENT
UID:75765b66-ac01-11ee-b829-0e05efb7f133
DTSTAMP:20240213T185227Z
SUMMARY:Men's Basketball Home Game vs. Butte College
LOCATION:Feather River College Gymnasium
URL;VALUE=URI:https://www.frc.edu/about/calendar/5109488/mens-basketball-ho
 me-game-vs-butte-college
DTSTART:20240215T010000Z
DTEND:20240215T030000Z
END:VEVENT
END:VCALENDAR
