BEGIN:VCALENDAR
VERSION:2.0
PRODID:SchoolNow
CALSCALE:GREGORIAN
BEGIN:VEVENT
UID:40bff4c2-ac01-11ee-9861-0a58a9feac02
DTSTAMP:20240105T193307Z
SUMMARY:Men's Basketball Home Game vs. Lassen College
LOCATION:Feather River College Gymnasium
URL;VALUE=URI:https://www.frc.edu/about/calendar/5109487/mens-basketball-ho
 me-game-vs-lassen-college
DTSTART:20240208T020000Z
DTEND:20240208T040000Z
END:VEVENT
END:VCALENDAR
