BEGIN:VCALENDAR
VERSION:2.0
PRODID:SchoolNow
CALSCALE:GREGORIAN
BEGIN:VEVENT
UID:09c6a736-ac01-11ee-a416-0a58a9feac02
DTSTAMP:20240105T193135Z
SUMMARY:Men's Basketball Home Game vs. Shasta College
LOCATION:Feather River College Gymnasium
URL;VALUE=URI:https://www.frc.edu/about/calendar/5109485/mens-basketball-ho
 me-game-vs-shasta-college
DTSTART:20240201T020000Z
DTEND:20240201T040000Z
END:VEVENT
END:VCALENDAR
