BEGIN:VCALENDAR
VERSION:2.0
PRODID:SchoolNow
CALSCALE:GREGORIAN
BEGIN:VEVENT
UID:d2d615a4-ac00-11ee-8866-0a58a9feac02
DTSTAMP:20240118T210813Z
SUMMARY:Men's Basketball Home Game vs. College of the Redwoods
LOCATION:Feather River College Gymnasium
URL;VALUE=URI:https://www.frc.edu/about/calendar/5109424/mens-basketball-ho
 me-game-vs-college-of-the-redwoods
DTSTART:20240120T210000Z
DTEND:20240120T230000Z
END:VEVENT
END:VCALENDAR
