BEGIN:VCALENDAR
VERSION:2.0
PRODID:SchoolNow
CALSCALE:GREGORIAN
BEGIN:VEVENT
UID:c3e1eb84-9938-11ee-a9d1-0a35c42d443b
DTSTAMP:20231212T215237Z
SUMMARY:ASFRC Holiday Décor Contest
URL;VALUE=URI:https://www.frc.edu/about/calendar/4995356/asfrc-holiday-deco
 r-contest
DTSTART:20231213T200000Z
DTEND:20231213T210000Z
END:VEVENT
END:VCALENDAR
