BEGIN:VCALENDAR
VERSION:2.0
PRODID:SchoolNow
CALSCALE:GREGORIAN
BEGIN:VEVENT
UID:fa4e72b0-8f0a-11ee-922d-0a2411107185
DTSTAMP:20231129T225940Z
SUMMARY:Dairy Day
LOCATION:Student Wellness & Success Center
URL;VALUE=URI:https://www.frc.edu/about/calendar/4974644/dairy-day
DTSTART:20231205T170000Z
DTEND:20231206T000000Z
END:VEVENT
END:VCALENDAR
