BEGIN:VCALENDAR
VERSION:2.0
PRODID:SchoolNow
CALSCALE:GREGORIAN
BEGIN:VEVENT
UID:9e020d52-8d7d-11ee-bf76-0e231f2344c5
DTSTAMP:20231127T233515Z
SUMMARY:Candy Grams for Sale!
LOCATION:The Perch
URL;VALUE=URI:https://www.frc.edu/about/calendar/4970843/candy-grams-for-sa
 le
DTSTART:20231204T200000Z
DTEND:20231208T210000Z
ATTACH;FILENAME=Candygrams.png;FMTTYPE=image/png:https://campussuite-storag
 e.s3.amazonaws.com/prod/1558523/0672826e-a84b-11e7-9779-0ae3e1d9783c/27054
 85/8a242e82-8d7d-11ee-bc08-0e35975cf25b/file/Candygrams.png
END:VEVENT
END:VCALENDAR
