BEGIN:VCALENDAR
VERSION:2.0
PRODID:SchoolNow
CALSCALE:GREGORIAN
BEGIN:VEVENT
UID:87aad81c-8d56-11ee-b52d-0a58a9feac02
DTSTAMP:20231127T185527Z
SUMMARY:Dinner & Movie Night
LOCATION:Main 203
URL;VALUE=URI:https://www.frc.edu/about/calendar/4970769/dinner-movie-night
DTSTART:20231130T010000Z
DTEND:20231130T030000Z
ATTACH;FILENAME=NA movie.png;FMTTYPE=image/png:https://campussuite-storage.
 s3.amazonaws.com/prod/1558523/0672826e-a84b-11e7-9779-0ae3e1d9783c/2705166
 /682d77a6-8d56-11ee-b302-0a58a9feac02/file/NA movie.png
END:VEVENT
END:VCALENDAR
