BEGIN:VCALENDAR
VERSION:2.0
PRODID:SchoolNow
CALSCALE:GREGORIAN
BEGIN:VEVENT
UID:3a6490e8-8964-11ee-b735-0a58a9feac02
DTSTAMP:20231122T183042Z
SUMMARY:Volleyball Home Playoffs vs. Lassen College
LOCATION:FRC Gymnasium
URL;VALUE=URI:https://www.frc.edu/about/calendar/4964119/volleyball-home-pl
 ayoffs-vs-lassen-college
DTSTART:20231126T020000Z
DTEND:20231126T040000Z
END:VEVENT
END:VCALENDAR
