BEGIN:VCALENDAR
VERSION:2.0
PRODID:SchoolNow
CALSCALE:GREGORIAN
BEGIN:VEVENT
UID:44e5f31e-88c8-11ee-a50d-0a58a9feac02
DTSTAMP:20231122T182810Z
SUMMARY:Holiday Craft Making Night
LOCATION:Art Building (FRC Campus)
URL;VALUE=URI:https://www.frc.edu/about/calendar/4963132/holiday-craft-mkai
 ng-night
DTSTART:20231128T010000Z
DTEND:20231128T030000Z
END:VEVENT
END:VCALENDAR
