BEGIN:VCALENDAR
VERSION:2.0
PRODID:SchoolNow
CALSCALE:GREGORIAN
BEGIN:VEVENT
UID:679dca38-88c0-11ee-9c7d-0a58a9feac02
DTSTAMP:20231122T182922Z
SUMMARY:Volleyball Playoffs vs. Monterey Peninsula College
LOCATION:FRC Gymnasium
URL;VALUE=URI:https://www.frc.edu/about/calendar/4963130/volleyball-playoff
 s-vs-monterey-peninsula-college
DTSTART:20231122T020000Z
DTEND:20231122T040000Z
END:VEVENT
END:VCALENDAR
