BEGIN:VCALENDAR
VERSION:2.0
PRODID:SchoolNow
CALSCALE:GREGORIAN
BEGIN:VEVENT
UID:60d8d77e-7cfe-11ee-8ff5-0a58a9feac02
DTSTAMP:20231106T234408Z
SUMMARY:Hotshot - Film Screening
LOCATION:Town Hall Theater (downtown Quincy)
URL;VALUE=URI:https://www.frc.edu/about/calendar/4931411/hotshot-film-scree
 ning
DTSTART:20231115T023000Z
DTEND:20231115T040000Z
ATTACH;FILENAME=HOTSHOT Flyer Final FOR CAMPUS.png;FMTTYPE=image/png:https:
 //campussuite-storage.s3.amazonaws.com/prod/1558523/0672826e-a84b-11e7-977
 9-0ae3e1d9783c/2696312/4a658eb0-7cfe-11ee-afcb-0a58a9feac02/file/HOTSHOT F
 lyer Final FOR CAMPUS.png
END:VEVENT
END:VCALENDAR
