BEGIN:VCALENDAR
VERSION:2.0
PRODID:SchoolNow
CALSCALE:GREGORIAN
BEGIN:VEVENT
UID:b2b66402-7cf0-11ee-9783-0244603328f9
DTSTAMP:20231106T220612Z
SUMMARY:Veterans Resource Center - Grand Opening
LOCATION:Near Student Lounge\, Below Perch
URL;VALUE=URI:https://www.frc.edu/about/calendar/4931276/veterans-resource-
 center-grand-opening
DTSTART:20231109T180000Z
DTEND:20231109T193000Z
ATTACH;FILENAME=VRC Grand Opening Flyer  (2).jpg;FMTTYPE=image/jpeg:https:/
 /campussuite-storage.s3.amazonaws.com/prod/1558523/0672826e-a84b-11e7-9779
 -0ae3e1d9783c/2696271/9832ca30-7cf0-11ee-ba5d-0a58a9feac02/file/VRC Grand 
 Opening Flyer  (2).jpg
END:VEVENT
END:VCALENDAR
