BEGIN:VCALENDAR
VERSION:2.0
PRODID:SchoolNow
CALSCALE:GREGORIAN
BEGIN:VEVENT
UID:c67d8548-7a79-11ee-aa16-0a58a9feac02
DTSTAMP:20231103T213523Z
SUMMARY:First-Gen College Student Workshop
LOCATION:Student Lounge
URL;VALUE=URI:https://www.frc.edu/about/calendar/4925375/fye-first-gen-coll
 ege-student-celebration
DTSTART:20231108T200000Z
DTEND:20231108T203000Z
END:VEVENT
END:VCALENDAR
