BEGIN:VCALENDAR
VERSION:2.0
PRODID:SchoolNow
CALSCALE:GREGORIAN
BEGIN:VEVENT
UID:2bf585a8-79ba-11ee-b522-02dcebd9e829
DTSTAMP:20231115T213809Z
SUMMARY:Thanksgiving Lunch
LOCATION:The Perch
URL;VALUE=URI:https://www.frc.edu/about/calendar/4923202/thanksgiving-lunch
DTSTART:20231121T190000Z
DTEND:20231121T210000Z
END:VEVENT
END:VCALENDAR
