BEGIN:VCALENDAR
VERSION:2.0
PRODID:SchoolNow
CALSCALE:GREGORIAN
BEGIN:VEVENT
UID:4f7dd896-646a-11ee-b99d-0a58a9feac02
DTSTAMP:20231006T170345Z
SUMMARY:Home Volleyball Game vs. College of the Siskiyous
URL;VALUE=URI:https://www.frc.edu/about/calendar/4838151/home-volleyball-ga
 me-vs-college-of-the-siskiyous
DTSTART:20231007T010000Z
DTEND:20231007T030000Z
END:VEVENT
END:VCALENDAR
