BEGIN:VCALENDAR
VERSION:2.0
PRODID:SchoolNow
CALSCALE:GREGORIAN
BEGIN:VEVENT
UID:86fbfc5a-63b4-11ee-9ceb-0a58a9feac02
DTSTAMP:20231019T173404Z
SUMMARY:Football Game - Spirit Week Blackout (Rally towel & children's give
 away)
LOCATION:Brennan Stadium
URL;VALUE=URI:https://www.frc.edu/about/calendar/4835523/spirit-week-day-5-
 black-out-football-game
DTSTART:20231021T200000Z
DTEND:20231021T230000Z
END:VEVENT
END:VCALENDAR
