BEGIN:VCALENDAR
VERSION:2.0
PRODID:SchoolNow
CALSCALE:GREGORIAN
BEGIN:VEVENT
UID:7bcc0c76-63b4-11ee-aec0-0e0c1634b719
DTSTAMP:20231010T182959Z
SUMMARY:Spirit Week - Annual FRC Chili Cook-Off
LOCATION:The Perch
URL;VALUE=URI:https://www.frc.edu/about/calendar/4835521/spirit-week-day-3-
 annual-frc-chili-cook-off
DTSTART:20231018T184500Z
DTEND:20231018T200000Z
END:VEVENT
END:VCALENDAR
