BEGIN:VCALENDAR
VERSION:2.0
PRODID:SchoolNow
CALSCALE:GREGORIAN
BEGIN:VEVENT
UID:6d32fa6c-63b4-11ee-a8db-02d1d1d62b0b
DTSTAMP:20231010T182936Z
SUMMARY:Spirit Week - Green and Gold Lunch
LOCATION:The Perch
URL;VALUE=URI:https://www.frc.edu/about/calendar/4835519/spirit-week-day-1
DTSTART:20231016T180000Z
DTEND:20231016T210000Z
END:VEVENT
END:VCALENDAR
