BEGIN:VCALENDAR
VERSION:2.0
PRODID:SchoolNow
CALSCALE:GREGORIAN
BEGIN:VEVENT
UID:52234898-63a6-11ee-a528-0a58a9feac02
DTSTAMP:20231010T211806Z
SUMMARY:FYE Workshop: Preparing for Winter
LOCATION:Student Lounge
URL;VALUE=URI:https://www.frc.edu/about/calendar/4834161/fye-workshop-prepa
 ring-for-winter
DTSTART:20231011T190000Z
DTEND:20231011T200000Z
END:VEVENT
END:VCALENDAR
