BEGIN:VCALENDAR
VERSION:2.0
PRODID:SchoolNow
CALSCALE:GREGORIAN
BEGIN:VEVENT
UID:40ccd9c4-5e29-11ee-a591-0a58a9feac02
DTSTAMP:20230928T180256Z
SUMMARY:Friday in the Fall
LOCATION:FRC Campus (begin at Perch)
URL;VALUE=URI:https://www.frc.edu/about/calendar/4807391/friday-in-the-fall
DTSTART:20231006T190000Z
DTEND:20231006T230000Z
END:VEVENT
END:VCALENDAR
