BEGIN:VCALENDAR
VERSION:2.0
PRODID:SchoolNow
CALSCALE:GREGORIAN
BEGIN:VEVENT
UID:0961c470-5cbe-11ee-8cf5-027e9799d105
DTSTAMP:20230926T224256Z
SUMMARY:Banned Books Week
URL;VALUE=URI:https://www.frc.edu/about/calendar/4798775/banned-books-week
DTSTART:20231002T150000Z
DTEND:20231007T000000Z
END:VEVENT
END:VCALENDAR
