BEGIN:VCALENDAR
VERSION:2.0
PRODID:SchoolNow
CALSCALE:GREGORIAN
BEGIN:VEVENT
UID:0ef0d49e-5bf6-11ee-ad7f-0a58a9feac02
DTSTAMP:20230925T225126Z
SUMMARY:Workshop: Managing Time\, Stress\, & Procrastination as a College S
 tudent
LOCATION:TRiO Lab (Student Services Building)
URL;VALUE=URI:https://www.frc.edu/about/calendar/4794359/workshop-banking-e
 stablishing-credit-and-filling-out-taxes-clone
DTSTART:20230927T190000Z
DTEND:20230927T200000Z
END:VEVENT
END:VCALENDAR
