BEGIN:VCALENDAR
VERSION:2.0
PRODID:SchoolNow
CALSCALE:GREGORIAN
BEGIN:VEVENT
UID:6524867c-5722-11ee-b612-0a58a9feac02
DTSTAMP:20230919T192613Z
SUMMARY:Free Lunch for Students
LOCATION:The Perch
URL;VALUE=URI:https://www.frc.edu/about/calendar/4760826/free-lunch-clone-c
 lone
DTSTART:20231109T190000Z
DTEND:20231109T220000Z
END:VEVENT
END:VCALENDAR
