BEGIN:VCALENDAR
VERSION:2.0
PRODID:SchoolNow
CALSCALE:GREGORIAN
BEGIN:VEVENT
UID:b33a79ca-4c37-11ee-8352-0a58a9feac02
DTSTAMP:20230905T220100Z
SUMMARY:Professional Development Session (Students only)- feat. Gaelin Elmo
 re
LOCATION:LRC 871
URL;VALUE=URI:https://www.frc.edu/about/calendar/4686059/professional-devel
 opment-session-staff-faculty-feat-gaelin-elmore-clone
DTSTART:20230912T003000Z
DTEND:20230912T013000Z
END:VEVENT
END:VCALENDAR
