BEGIN:VCALENDAR
VERSION:2.0
PRODID:SchoolNow
CALSCALE:GREGORIAN
BEGIN:VEVENT
UID:96e71276-48fc-11ee-a1d6-0a58a9feac02
DTSTAMP:20230901T192019Z
SUMMARY:First Year Experience Workshop: Zumba! Mental Health and Movement
LOCATION:Library Lawn
URL;VALUE=URI:https://www.frc.edu/about/calendar/4667545/first-year-experie
 nce-workshop-zumba-mental-health-and-movement
DTSTART:20230913T190000Z
DTEND:20230913T200000Z
END:VEVENT
END:VCALENDAR
