BEGIN:VCALENDAR
VERSION:2.0
PRODID:SchoolNow
CALSCALE:GREGORIAN
BEGIN:VEVENT
UID:b71863e0-4755-11ee-9f8f-029c519d0b5b
DTSTAMP:20230901T002856Z
SUMMARY:Professional Development Session (Staff/Faculty)- feat. Gaelin Elmo
 re
LOCATION:LRC 871
URL;VALUE=URI:https://www.frc.edu/about/calendar/4653792/professional-devel
 opment-session-staff-faculty-feat-gaelin-elmore
DTSTART:20230911T220000Z
DTEND:20230911T230000Z
END:VEVENT
END:VCALENDAR
