BEGIN:VCALENDAR
VERSION:2.0
PRODID:SchoolNow
CALSCALE:GREGORIAN
BEGIN:VEVENT
UID:e162f768-46bb-11ee-a4a7-0abd52b1e4d9
DTSTAMP:20230901T002804Z
SUMMARY:College & Career Fair
LOCATION:Field in front of the Allied Health/Nursing parking lot & football
  stadium
URL;VALUE=URI:https://www.frc.edu/about/calendar/4649841/college-career-fai
 r
DTSTART:20230911T170000Z
DTEND:20230911T210000Z
END:VEVENT
END:VCALENDAR
