BEGIN:VCALENDAR
VERSION:2.0
PRODID:SchoolNow
CALSCALE:GREGORIAN
BEGIN:VEVENT
UID:12ef4276-3abb-11ee-8cb3-0a58a9feac02
DTSTAMP:20230814T155604Z
SUMMARY:Day at the River (WOW event)
LOCATION:Meet at ORL/ART Building
URL;VALUE=URI:https://www.frc.edu/about/calendar/4572613/day-at-the-river-w
 ow-event
DTSTART:20230823T210000Z
DTEND:20230823T230000Z
END:VEVENT
END:VCALENDAR
