BEGIN:VCALENDAR
VERSION:2.0
PRODID:SchoolNow
CALSCALE:GREGORIAN
BEGIN:VEVENT
UID:3b6c5b78-3230-11ee-b7ad-0ea31f41eb0d
DTSTAMP:20230803T190203Z
SUMMARY:Football home game vs. American River College
LOCATION:Brennan Football Stadium
URL;VALUE=URI:https://www.frc.edu/about/calendar/4545070/football-home-game
 -vs-american-river-college
DTSTART:20231111T210000Z
DTEND:20231112T000000Z
END:VEVENT
END:VCALENDAR
