BEGIN:VCALENDAR
VERSION:2.0
PRODID:SchoolNow
CALSCALE:GREGORIAN
BEGIN:VEVENT
UID:fed80252-322f-11ee-ade8-0a58a9feac02
DTSTAMP:20230803T190021Z
SUMMARY:Volleyball home game vs. College of the Redwoods
LOCATION:Feather River College Gym
URL;VALUE=URI:https://www.frc.edu/about/calendar/4545069/volleyball-home-ga
 me-vs-college-of-the-redwoods
DTSTART:20231103T010000Z
DTEND:20231103T030000Z
END:VEVENT
END:VCALENDAR
