BEGIN:VCALENDAR
VERSION:2.0
PRODID:SchoolNow
CALSCALE:GREGORIAN
BEGIN:VEVENT
UID:c9244b70-322f-11ee-a8fb-0e78820e2e15
DTSTAMP:20230803T185851Z
SUMMARY:Men's and Women's Soccer home game vs. Redwoods
LOCATION:Feather River College Soccer Field
URL;VALUE=URI:https://www.frc.edu/about/calendar/4545068/mens-and-women-s-s
 occer-home-game-vs-redwoods
DTSTART:20231031T210000Z
DTEND:20231101T010000Z
END:VEVENT
END:VCALENDAR
