BEGIN:VCALENDAR
VERSION:2.0
PRODID:SchoolNow
CALSCALE:GREGORIAN
BEGIN:VEVENT
UID:65c2b954-322f-11ee-8915-020e34789605
DTSTAMP:20230803T185604Z
SUMMARY:Football home game vs. Shasta College
LOCATION:Brennan Football Stadium
URL;VALUE=URI:https://www.frc.edu/about/calendar/4545067/football-home-game
 -vs-shasta-college
DTSTART:20231029T000000Z
DTEND:20231029T030000Z
END:VEVENT
END:VCALENDAR
