BEGIN:VCALENDAR
VERSION:2.0
PRODID:SchoolNow
CALSCALE:GREGORIAN
BEGIN:VEVENT
UID:a01fc0ee-322d-11ee-8127-0a58a9feac02
DTSTAMP:20230803T184323Z
SUMMARY:Volleyball home game vs. Butte
LOCATION:Feather River College Gym
URL;VALUE=URI:https://www.frc.edu/about/calendar/4545048/volleyball-home-ga
 me-vs-butte
DTSTART:20231019T010000Z
DTEND:20231019T030000Z
END:VEVENT
END:VCALENDAR
