BEGIN:VCALENDAR
VERSION:2.0
PRODID:SchoolNow
CALSCALE:GREGORIAN
BEGIN:VEVENT
UID:3950b8e6-322d-11ee-87b9-0a58a9feac02
DTSTAMP:20230803T184031Z
SUMMARY:Men's and Women's home soccer games vs. Butte College
URL;VALUE=URI:https://www.frc.edu/about/calendar/4545046/mens-and-women-s-h
 ome-soccer-games-vs-butte-college
DTSTART:20231013T210000Z
DTEND:20231014T010000Z
END:VEVENT
END:VCALENDAR
