BEGIN:VCALENDAR
VERSION:2.0
PRODID:SchoolNow
CALSCALE:GREGORIAN
BEGIN:VEVENT
UID:f99087d6-322c-11ee-aea1-027b4a6ebcdd
DTSTAMP:20230803T183844Z
SUMMARY:Volleyball home game vs. Shasta College
LOCATION:Feather River College Gym
URL;VALUE=URI:https://www.frc.edu/about/calendar/4545045/volleyball-home-ga
 me-vs-shasta-college
DTSTART:20231014T010000Z
DTEND:20231014T030000Z
END:VEVENT
END:VCALENDAR
