BEGIN:VCALENDAR
VERSION:2.0
PRODID:SchoolNow
CALSCALE:GREGORIAN
BEGIN:VEVENT
UID:c5bdb960-322c-11ee-a2f2-0ea31f41eb0d
DTSTAMP:20230803T183717Z
SUMMARY:Men's and Women's Soccer vs. Lake Tahoe Community College
LOCATION:Feather River College Soccer Field
URL;VALUE=URI:https://www.frc.edu/about/calendar/4545044/mens-and-women-s-s
 occer-vs-lake-tahoe-community-college
DTSTART:20231010T210000Z
DTEND:20231011T010000Z
END:VEVENT
END:VCALENDAR
