BEGIN:VCALENDAR
VERSION:2.0
PRODID:SchoolNow
CALSCALE:GREGORIAN
BEGIN:VEVENT
UID:de2299f4-322b-11ee-b108-0e78820e2e15
DTSTAMP:20230803T183048Z
SUMMARY:Women's Soccer home game vs. Shasta College
LOCATION:Feather River College Soccer Field
URL;VALUE=URI:https://www.frc.edu/about/calendar/4544999/womens-soccer-home
 -game-vs-shasta-college
DTSTART:20231003T230000Z
DTEND:20231004T010000Z
END:VEVENT
END:VCALENDAR
