BEGIN:VCALENDAR
VERSION:2.0
PRODID:SchoolNow
CALSCALE:GREGORIAN
BEGIN:VEVENT
UID:a1f9b43a-322b-11ee-850c-0a58a9feac02
DTSTAMP:20230803T182907Z
SUMMARY:Men's and Women's Soccer home game vs. Siskiyous
LOCATION:Feather River College Soccer Field
URL;VALUE=URI:https://www.frc.edu/about/calendar/4544998/mens-and-women-s-s
 occer-home-game-vs-siskiyous
DTSTART:20230929T210000Z
DTEND:20230930T010000Z
END:VEVENT
END:VCALENDAR
