BEGIN:VCALENDAR
VERSION:2.0
PRODID:SchoolNow
CALSCALE:GREGORIAN
BEGIN:VEVENT
UID:acf2558c-322a-11ee-a099-0a58a9feac02
DTSTAMP:20230803T182216Z
SUMMARY:Home Football game vs. Sac City
LOCATION:Brennan Stadium
URL;VALUE=URI:https://www.frc.edu/about/calendar/4544997/home-football-game
 -vs-sac-city
DTSTART:20230923T200000Z
DTEND:20230923T230000Z
END:VEVENT
END:VCALENDAR
