BEGIN:VCALENDAR
VERSION:2.0
PRODID:SchoolNow
CALSCALE:GREGORIAN
BEGIN:VEVENT
UID:f5ae58b0-3226-11ee-81b3-020e34789605
DTSTAMP:20230803T175540Z
SUMMARY:Men's and Women's Soccer Home Game vs Merced
LOCATION:Soccer Field
URL;VALUE=URI:https://www.frc.edu/about/calendar/4544996/mens-and-women-s-s
 occer-home-game-vs-merced
DTSTART:20230905T200000Z
DTEND:20230906T003000Z
END:VEVENT
END:VCALENDAR
