BEGIN:VCALENDAR
VERSION:2.0
PRODID:SchoolNow
CALSCALE:GREGORIAN
BEGIN:VEVENT
UID:ac374108-2725-11ee-afdf-0a58a9feac02
DTSTAMP:20230902T183917Z
SUMMARY:Home Football Game vs Chabot
LOCATION:Brennan Stadium
URL;VALUE=URI:https://www.frc.edu/about/calendar/4501987/home-football-game
 -vs-chabot
DTSTART:20230902T200000Z
DTEND:20230902T230000Z
END:VEVENT
END:VCALENDAR
