BEGIN:VCALENDAR
VERSION:2.0
PRODID:SchoolNow
CALSCALE:GREGORIAN
BEGIN:VEVENT
UID:c176ed50-24de-11ee-913b-0acf471acd0d
DTSTAMP:20240521T190707Z
SUMMARY:2024 Commencement Ceremony
URL;VALUE=URI:https://www.frc.edu/about/calendar/4500133/commencement
DTSTART;VALUE=DATE:20240524
DTEND;VALUE=DATE:20240525
END:VEVENT
END:VCALENDAR
