BEGIN:VCALENDAR
VERSION:2.0
PRODID:SchoolNow
CALSCALE:GREGORIAN
BEGIN:VEVENT
UID:b7075fa8-24de-11ee-9927-0a58a9feac02
DTSTAMP:20230717T201546Z
SUMMARY:Final Examinations (Friday is a make-up day)
URL;VALUE=URI:https://www.frc.edu/about/calendar/4500132/final-examinations
 -friday-is-a-make-up-day-clone
DTSTART;VALUE=DATE:20240520
DTEND;VALUE=DATE:20240525
END:VEVENT
END:VCALENDAR
