BEGIN:VCALENDAR
VERSION:2.0
PRODID:SchoolNow
CALSCALE:GREGORIAN
BEGIN:VEVENT
UID:aa834d46-24de-11ee-94af-0a58a9feac02
DTSTAMP:20230717T201525Z
SUMMARY:First-half-semester classes ends
URL;VALUE=URI:https://www.frc.edu/about/calendar/4500131/first-half-semeste
 r-classes-end-clone-clone
DTSTART;VALUE=DATE:20240322
DTEND;VALUE=DATE:20240323
END:VEVENT
END:VCALENDAR
