BEGIN:VCALENDAR
VERSION:2.0
PRODID:SchoolNow
CALSCALE:GREGORIAN
BEGIN:VEVENT
UID:75f14330-24de-11ee-886d-028a1a3bf985
DTSTAMP:20230717T201357Z
SUMMARY:Last Day to Drop First 9-Week Classes With a "W"
URL;VALUE=URI:https://www.frc.edu/about/calendar/4500127/last-day-to-drop-f
 irst-9-week-classes-without-a-w-clone-clone
DTSTART;VALUE=DATE:20240223
DTEND;VALUE=DATE:20240224
END:VEVENT
END:VCALENDAR
