BEGIN:VCALENDAR
VERSION:2.0
PRODID:SchoolNow
CALSCALE:GREGORIAN
BEGIN:VEVENT
UID:659e7f7a-24de-11ee-898b-0295a5caf447
DTSTAMP:20230717T201330Z
SUMMARY:Last Day to Enroll/Add Full-Term Classes and Drop Full-Term Classes
  with 100% Refund
URL;VALUE=URI:https://www.frc.edu/about/calendar/4500126/last-day-to-enroll
 -add-full-term-classes-and-drop-full-term-classes-with-100-refund-clone-cl
 one
DTSTART;VALUE=DATE:20240202
DTEND;VALUE=DATE:20240203
END:VEVENT
END:VCALENDAR
